BEGIN:VCALENDAR
VERSION:2.0
PRODID:-//Girl with a Star-Spangled Heart - ECPv6.15.20//NONSGML v1.0//EN
CALSCALE:GREGORIAN
METHOD:PUBLISH
X-WR-CALNAME:Girl with a Star-Spangled Heart
X-ORIGINAL-URL:https://starspangledheart.com
X-WR-CALDESC:Events for Girl with a Star-Spangled Heart
REFRESH-INTERVAL;VALUE=DURATION:PT1H
X-Robots-Tag:noindex
X-PUBLISHED-TTL:PT1H
BEGIN:VTIMEZONE
TZID:America/New_York
BEGIN:DAYLIGHT
TZOFFSETFROM:-0500
TZOFFSETTO:-0400
TZNAME:EDT
DTSTART:20230312T070000
END:DAYLIGHT
BEGIN:STANDARD
TZOFFSETFROM:-0400
TZOFFSETTO:-0500
TZNAME:EST
DTSTART:20231105T060000
END:STANDARD
BEGIN:DAYLIGHT
TZOFFSETFROM:-0500
TZOFFSETTO:-0400
TZNAME:EDT
DTSTART:20240310T070000
END:DAYLIGHT
BEGIN:STANDARD
TZOFFSETFROM:-0400
TZOFFSETTO:-0500
TZNAME:EST
DTSTART:20241103T060000
END:STANDARD
BEGIN:DAYLIGHT
TZOFFSETFROM:-0500
TZOFFSETTO:-0400
TZNAME:EDT
DTSTART:20250309T070000
END:DAYLIGHT
BEGIN:STANDARD
TZOFFSETFROM:-0400
TZOFFSETTO:-0500
TZNAME:EST
DTSTART:20251102T060000
END:STANDARD
END:VTIMEZONE
BEGIN:VEVENT
DTSTART;TZID=America/New_York:20241120T140000
DTEND;TZID=America/New_York:20241120T170000
DTSTAMP:20260420T133046
CREATED:20240903T011348Z
LAST-MODIFIED:20240903T011348Z
UID:3446-1732111200-1732122000@starspangledheart.com
SUMMARY:Christmas Hoop Ornaments ITH - Poconos
DESCRIPTION:This course will show you how to embroider Christmas hoop ornaments. We will discuss the proper way to sew with metallic threads\, how to use a template file to create custom designs\, moving & scaling a design to fit inside a template\, and making & finishing a hoop ornament. You will receive 2 files in class: a blank hoop template and a Christmas design\, along with an instruction pdf. file. \nThere is a $10.00 file fee due to the instructor on day of class. \nPreferred hoop size: 4” x 4” or larger \nSign-up here: https://www.poconosewandvac.com/events/embroidery-classes/
URL:https://starspangledheart.com/event/xmas-hoop-ornaments-poconos/
LOCATION:Pocono Sew & Vac\, 567 Main Street\, Stroudsburg\, PA\, 18360\, United States
ATTACH;FMTTYPE=image/jpeg:https://starspangledheart.com/wp-content/uploads/2024/09/02_ChristmasHoop_Ornament.jpg
END:VEVENT
END:VCALENDAR