BEGIN:VCALENDAR
VERSION:2.0
PRODID:-//Girl with a Star-Spangled Heart - ECPv6.15.20//NONSGML v1.0//EN
CALSCALE:GREGORIAN
METHOD:PUBLISH
X-ORIGINAL-URL:https://starspangledheart.com
X-WR-CALDESC:Events for Girl with a Star-Spangled Heart
REFRESH-INTERVAL;VALUE=DURATION:PT1H
X-Robots-Tag:noindex
X-PUBLISHED-TTL:PT1H
BEGIN:VTIMEZONE
TZID:America/New_York
BEGIN:DAYLIGHT
TZOFFSETFROM:-0500
TZOFFSETTO:-0400
TZNAME:EDT
DTSTART:20230312T070000
END:DAYLIGHT
BEGIN:STANDARD
TZOFFSETFROM:-0400
TZOFFSETTO:-0500
TZNAME:EST
DTSTART:20231105T060000
END:STANDARD
BEGIN:DAYLIGHT
TZOFFSETFROM:-0500
TZOFFSETTO:-0400
TZNAME:EDT
DTSTART:20240310T070000
END:DAYLIGHT
BEGIN:STANDARD
TZOFFSETFROM:-0400
TZOFFSETTO:-0500
TZNAME:EST
DTSTART:20241103T060000
END:STANDARD
BEGIN:DAYLIGHT
TZOFFSETFROM:-0500
TZOFFSETTO:-0400
TZNAME:EDT
DTSTART:20250309T070000
END:DAYLIGHT
BEGIN:STANDARD
TZOFFSETFROM:-0400
TZOFFSETTO:-0500
TZNAME:EST
DTSTART:20251102T060000
END:STANDARD
END:VTIMEZONE
BEGIN:VEVENT
DTSTART;VALUE=DATE:20240610
DTEND;VALUE=DATE:20240615
DTSTAMP:20260421T194458
CREATED:20240611T205119Z
LAST-MODIFIED:20240611T205207Z
UID:3315-1717977600-1718409599@starspangledheart.com
SUMMARY:SMP Hoop Fest 2024
DESCRIPTION:I am pleased to announce that I will be speaking at SMP’s VIRTUAL HOOP FEST 2024! I will be presenting my ITH Flag Bag on Friday\, June 14\, 2024 (Flag Day!) @ 10am (PST) / 1pm(EST). \nWatch the event live\, all week here: youtube.com/HoopFest\nGENERAL INFORMATION FROM SMP:\n\nWe are excited to offer a 5-day virtual festival of embroidery. Our hoop festival is a community offering in celebration of the artists and makers who practice this craft. We are hosting a contest with popular vote awards of first and second\, and third placement prizes\, as well as a Best of Show\, Golden Scissors Award. Throughout the contest we will be having giveaways and picking a viewer every day to be eligible to win Hoop Fest 2024 $25\,000—Dream Studio Giveaway*! *ARV \n\nJoin us on Facebook or YouTube live\, each day\, during the 5 days of interactive live-streaming. Our panelists and hosts will be showcasing embroidery hoop machines\, notions and sharing their expertise\, tips ‘n tricks\, some history and master classes.
URL:https://starspangledheart.com/event/smp-hoop-fest-2024/
LOCATION:NJ
ATTACH;FMTTYPE=image/png:https://starspangledheart.com/wp-content/uploads/2024/06/3.png
END:VEVENT
BEGIN:VEVENT
DTSTART;TZID=America/New_York:20240625T120000
DTEND;TZID=America/New_York:20240625T180000
DTSTAMP:20260421T194458
CREATED:20250408T003153Z
LAST-MODIFIED:20250408T003153Z
UID:3696-1719316800-1719338400@starspangledheart.com
SUMMARY:Introduction to Machine Embroidery - Virtual Summer Schoolhouse - Mancuso
DESCRIPTION:Date: Tuesday\, June 12th\nTime: 12am – 6pm\nPlace: Virtual on Zoom (Stay at home!) \nLearn all about best practices for embroidery including: threads\, needles\, stabilizers\, proper hooping methods\, registration\, troubleshooting common embroidery issues\, loading and editing designs on your machine\, digitizing principles\, embroidery stitch types\, applique techniques\, floating fabrics\, and ITH (in-the-hoop) projects. We will make 3 projects in class: napkin\, tote bag\, and key fob. (*This course includes a kit for all 3 projects.) \n{You need to know the basics on how to operate your machine for embroidery such as turning on your machine\, threading the machine\, winding & loading bobbin. This class will teach embroidery theory and techniques NOT how to fully operate your machine. Make sure to bring your user manual.} \nREGISTER HERE:   quiltfest.com/upcoming-shows-and-events/quiltfest-virtual-summer-schoolhouse/  \n***This class requires a mandatory kit & patterns be purchased and will be mailed to you (kit description found below).\nPlease purchase kit on Mancuso’s website. (We do not sell them on our site). *** \nMaterials Needed by Student: \n\nEmbroidery machine with embroidery attachment arm and embroidery foot.\n**Preferred hoop size: 5″x7″ or larger (*4”x4” is acceptable; projects will be smaller)\n1 to 2 yards – Tear Away Stabilizer\nFabric Scissors\nApplique Scissors\n505 or KK100 Spray Adhesive\n75/11 Embroidery Needles\n60 wt. White Embroidery Bobbin\n40 wt. Embroidery Thread\n) White\nB.) Black\nC.) Red\nD.) Blue\nE.) Silver or Gold\n\nKits Include: \n\nUSB Stick\nEmbroidery design/pattern files\n.PDF instructions of workshop\nNapkin\nTote bag\n1 piece of Canvas\n2 pieces of Vinyl\nKeyring Clasp\n1 Set of Snaps\n\n* All kits exclude: tear away stabilizer\, threads\, bobbin\, and 75/11 needles.
URL:https://starspangledheart.com/event/intro-2-machine-embroidery-virtual-schoolhouse-mancuso/
LOCATION:Zoom Meeting – Virtual
ATTACH;FMTTYPE=image/jpeg:https://starspangledheart.com/wp-content/uploads/2023/02/INTRO-TO-EMBORIDERY.jpg
END:VEVENT
END:VCALENDAR